BEGIN:VCALENDAR
VERSION:2.0
PRODID:-//Elmer - ECPv6.5.0.1//NONSGML v1.0//EN
CALSCALE:GREGORIAN
METHOD:PUBLISH
X-WR-CALNAME:Elmer
X-ORIGINAL-URL:https://elmerpresbyterianchurch.org
X-WR-CALDESC:Events for Elmer
REFRESH-INTERVAL;VALUE=DURATION:PT1H
X-Robots-Tag:noindex
X-PUBLISHED-TTL:PT1H
BEGIN:VTIMEZONE
TZID:America/New_York
BEGIN:DAYLIGHT
TZOFFSETFROM:-0500
TZOFFSETTO:-0400
TZNAME:EDT
DTSTART:20220313T070000
END:DAYLIGHT
BEGIN:STANDARD
TZOFFSETFROM:-0400
TZOFFSETTO:-0500
TZNAME:EST
DTSTART:20221106T060000
END:STANDARD
BEGIN:DAYLIGHT
TZOFFSETFROM:-0500
TZOFFSETTO:-0400
TZNAME:EDT
DTSTART:20230312T070000
END:DAYLIGHT
BEGIN:STANDARD
TZOFFSETFROM:-0400
TZOFFSETTO:-0500
TZNAME:EST
DTSTART:20231105T060000
END:STANDARD
BEGIN:DAYLIGHT
TZOFFSETFROM:-0500
TZOFFSETTO:-0400
TZNAME:EDT
DTSTART:20240310T070000
END:DAYLIGHT
BEGIN:STANDARD
TZOFFSETFROM:-0400
TZOFFSETTO:-0500
TZNAME:EST
DTSTART:20241103T060000
END:STANDARD
END:VTIMEZONE
BEGIN:VEVENT
DTSTART;TZID=America/New_York:20240903T100000
DTEND;TZID=America/New_York:20240903T110000
DTSTAMP:20260420T233841
CREATED:20240806T144657Z
LAST-MODIFIED:20240806T144657Z
UID:2175-1725357600-1725361200@elmerpresbyterianchurch.org
SUMMARY:Grief Support Group
DESCRIPTION:
URL:https://elmerpresbyterianchurch.org/event/grief-support-group/
END:VEVENT
BEGIN:VEVENT
DTSTART;TZID=America/New_York:20220318T100000
DTEND;TZID=America/New_York:20220318T110000
DTSTAMP:20260420T233841
CREATED:20211001T014505Z
LAST-MODIFIED:20220304T214105Z
UID:1247-1647597600-1647601200@elmerpresbyterianchurch.org
SUMMARY:Lenten study  "Jesus"
DESCRIPTION:Pastor Janet will lead a Lenten study beginning on March 18\, 2022 at 10:00 a.m. for 6 weeks\, on Wednesday of those weeks. The study is called “Jesus” by Max Lucado. This study will be on Zoom. Please contact Janet with your email if you wish to participate.
URL:https://elmerpresbyterianchurch.org/event/lenten-study-jesus/
ATTACH;FMTTYPE=image/jpeg:https://elmerpresbyterianchurch.org/wp-content/uploads/2021/09/church-computer-1000.jpg
END:VEVENT
END:VCALENDAR